BEGIN:VCALENDAR
VERSION:2.0
PRODID:-//Drupal//recurring_events_ical//2.0//EN
BEGIN:VEVENT
UID:342c37e4-ed7e-487a-beb5-6b4b62d29ccc@events.stage.louisville.edu
DTSTAMP:20260424T162331Z
DTSTART:20270809T110000Z
DTEND:20270809T110000Z
SUMMARY:Testing Services
CONTACT:Tammy Jones-Scrogham\, 502-852-6606\, email:testing@louisville.edu
DESCRIPTION:Will you please add Testing Services as part of the offices lis
 ted in Davidson Hall?  Thank you!
URL:https://events.stage.louisville.edu/events/testing-services/2027-08-09
END:VEVENT
END:VCALENDAR