BEGIN:VCALENDAR
VERSION:2.0
PRODID:-//Drupal//recurring_events_ical//2.0//EN
BEGIN:VEVENT
UID:50238b94-53e9-49e5-9384-5941eb2b64a2@events.stage.louisville.edu
DTSTAMP:20260424T175828Z
DTSTART:20270811T110000Z
DTEND:20270811T110000Z
SUMMARY:Testing Services
CONTACT:Tammy Jones-Scrogham\, 502-852-6606\, email:testing@louisville.edu
DESCRIPTION:Will you please add Testing Services as part of the offices lis
 ted in Davidson Hall?  Thank you!
URL:https://events.stage.louisville.edu/events/testing-services/2027-08-11
END:VEVENT
END:VCALENDAR