BEGIN:VCALENDAR
VERSION:2.0
PRODID:-//Drupal//recurring_events_ical//2.0//EN
BEGIN:VEVENT
UID:aa6b38b5-57c6-441e-9aac-b6562690eb30@events.stage.louisville.edu
DTSTAMP:20260424T162201Z
DTSTART:20270817T110000Z
DTEND:20270817T110000Z
SUMMARY:Testing Services
CONTACT:Tammy Jones-Scrogham\, 502-852-6606\, email:testing@louisville.edu
DESCRIPTION:Will you please add Testing Services as part of the offices lis
 ted in Davidson Hall?  Thank you!
URL:https://events.stage.louisville.edu/events/testing-services/2027-08-17
END:VEVENT
END:VCALENDAR