BEGIN:VCALENDAR
VERSION:2.0
PRODID:-//Drupal//recurring_events_ical//2.0//EN
BEGIN:VEVENT
UID:bdc36f10-188c-4aa1-876f-eaab4bf97735@events.stage.louisville.edu
DTSTAMP:20260424T175740Z
DTSTART:20270819T110000Z
DTEND:20270819T110000Z
SUMMARY:Testing Services
CONTACT:Tammy Jones-Scrogham\, 502-852-6606\, email:testing@louisville.edu
DESCRIPTION:Will you please add Testing Services as part of the offices lis
 ted in Davidson Hall?  Thank you!
URL:https://events.stage.louisville.edu/events/testing-services/2027-08-19
END:VEVENT
END:VCALENDAR