BEGIN:VCALENDAR
VERSION:2.0
PRODID:-//Drupal//recurring_events_ical//2.0//EN
BEGIN:VEVENT
UID:9d2d9b1d-bd05-4e5d-9f71-a5296cce1d65@events.stage.louisville.edu
DTSTAMP:20260424T175744Z
DTSTART:20270823T110000Z
DTEND:20270823T110000Z
SUMMARY:Testing Services
CONTACT:Tammy Jones-Scrogham\, 502-852-6606\, email:testing@louisville.edu
DESCRIPTION:Will you please add Testing Services as part of the offices lis
 ted in Davidson Hall?  Thank you!
URL:https://events.stage.louisville.edu/events/testing-services/2027-08-23
END:VEVENT
END:VCALENDAR