BEGIN:VCALENDAR
VERSION:2.0
PRODID:-//Drupal//recurring_events_ical//2.0//EN
BEGIN:VEVENT
UID:4e26a789-abff-4738-ab07-f6b7930fc3b5@events.stage.louisville.edu
DTSTAMP:20260424T180047Z
DTSTART:20270913T110000Z
DTEND:20270913T110000Z
SUMMARY:Testing Services
CONTACT:Tammy Jones-Scrogham\, 502-852-6606\, email:testing@louisville.edu
DESCRIPTION:Will you please add Testing Services as part of the offices lis
 ted in Davidson Hall?  Thank you!
URL:https://events.stage.louisville.edu/events/testing-services/2027-09-13
END:VEVENT
END:VCALENDAR