BEGIN:VCALENDAR
VERSION:2.0
PRODID:-//Drupal//recurring_events_ical//2.0//EN
BEGIN:VEVENT
UID:89acca56-0948-44e1-b920-309a57caa197@events.stage.louisville.edu
DTSTAMP:20260424T162616Z
DTSTART:20270914T110000Z
DTEND:20270914T110000Z
SUMMARY:Testing Services
CONTACT:Tammy Jones-Scrogham\, 502-852-6606\, email:testing@louisville.edu
DESCRIPTION:Will you please add Testing Services as part of the offices lis
 ted in Davidson Hall?  Thank you!
URL:https://events.stage.louisville.edu/events/testing-services/2027-09-14
END:VEVENT
END:VCALENDAR