BEGIN:VCALENDAR
VERSION:2.0
PRODID:-//Drupal//recurring_events_ical//2.0//EN
BEGIN:VEVENT
UID:faa78529-4230-40f4-9997-f9c1ca4dccc9@events.stage.louisville.edu
DTSTAMP:20260424T180051Z
DTSTART:20270916T110000Z
DTEND:20270916T110000Z
SUMMARY:Testing Services
CONTACT:Tammy Jones-Scrogham\, 502-852-6606\, email:testing@louisville.edu
DESCRIPTION:Will you please add Testing Services as part of the offices lis
 ted in Davidson Hall?  Thank you!
URL:https://events.stage.louisville.edu/events/testing-services/2027-09-16
END:VEVENT
END:VCALENDAR