BEGIN:VCALENDAR
VERSION:2.0
PRODID:-//Drupal//recurring_events_ical//2.0//EN
BEGIN:VEVENT
UID:c449c43f-dec4-4ea5-99ab-ee68b2984299@events.stage.louisville.edu
DTSTAMP:20260424T180047Z
DTSTART:20270920T110000Z
DTEND:20270920T110000Z
SUMMARY:Testing Services
CONTACT:Tammy Jones-Scrogham\, 502-852-6606\, email:testing@louisville.edu
DESCRIPTION:Will you please add Testing Services as part of the offices lis
 ted in Davidson Hall?  Thank you!
URL:https://events.stage.louisville.edu/events/testing-services/2027-09-20
END:VEVENT
END:VCALENDAR