BEGIN:VCALENDAR
VERSION:2.0
PRODID:-//Drupal//recurring_events_ical//2.0//EN
BEGIN:VEVENT
UID:b751d051-7226-4172-9a75-89fc191aea6c@events.stage.louisville.edu
DTSTAMP:20260424T162351Z
DTSTART:20270928T110000Z
DTEND:20270928T110000Z
SUMMARY:Testing Services
CONTACT:Tammy Jones-Scrogham\, 502-852-6606\, email:testing@louisville.edu
DESCRIPTION:Will you please add Testing Services as part of the offices lis
 ted in Davidson Hall?  Thank you!
URL:https://events.stage.louisville.edu/events/testing-services/2027-09-28
END:VEVENT
END:VCALENDAR