BEGIN:VCALENDAR
VERSION:2.0
PRODID:-//Drupal//recurring_events_ical//2.0//EN
BEGIN:VEVENT
UID:fc327c3b-ea78-4aaa-a31a-01c1a509e064@events.stage.louisville.edu
DTSTAMP:20260424T164941Z
DTSTART:20271005T110000Z
DTEND:20271005T110000Z
SUMMARY:Testing Services
CONTACT:Tammy Jones-Scrogham\, 502-852-6606\, email:testing@louisville.edu
DESCRIPTION:Will you please add Testing Services as part of the offices lis
 ted in Davidson Hall?  Thank you!
URL:https://events.stage.louisville.edu/events/testing-services/2027-10-05
END:VEVENT
END:VCALENDAR