BEGIN:VCALENDAR
VERSION:2.0
PRODID:-//Drupal//recurring_events_ical//2.0//EN
BEGIN:VEVENT
UID:978313a3-bb55-41bb-bce2-1b2f9821e450@events.stage.louisville.edu
DTSTAMP:20260424T162427Z
DTSTART:20271011T110000Z
DTEND:20271011T110000Z
SUMMARY:Testing Services
CONTACT:Tammy Jones-Scrogham\, 502-852-6606\, email:testing@louisville.edu
DESCRIPTION:Will you please add Testing Services as part of the offices lis
 ted in Davidson Hall?  Thank you!
URL:https://events.stage.louisville.edu/events/testing-services/2027-10-11
END:VEVENT
END:VCALENDAR