BEGIN:VCALENDAR
VERSION:2.0
PRODID:-//Drupal//recurring_events_ical//2.0//EN
BEGIN:VEVENT
UID:d86551f2-82c0-4b67-a1e0-4cb78c76c8b5@events.stage.louisville.edu
DTSTAMP:20260424T175901Z
DTSTART:20271018T110000Z
DTEND:20271018T110000Z
SUMMARY:Testing Services
CONTACT:Tammy Jones-Scrogham\, 502-852-6606\, email:testing@louisville.edu
DESCRIPTION:Will you please add Testing Services as part of the offices lis
 ted in Davidson Hall?  Thank you!
URL:https://events.stage.louisville.edu/events/testing-services/2027-10-18
END:VEVENT
END:VCALENDAR