BEGIN:VCALENDAR
VERSION:2.0
PRODID:-//Drupal//recurring_events_ical//2.0//EN
BEGIN:VEVENT
UID:897209d2-8c7f-4078-a149-60ba3d7e8928@events.stage.louisville.edu
DTSTAMP:20260424T162421Z
DTSTART:20271026T110000Z
DTEND:20271026T110000Z
SUMMARY:Testing Services
CONTACT:Tammy Jones-Scrogham\, 502-852-6606\, email:testing@louisville.edu
DESCRIPTION:Will you please add Testing Services as part of the offices lis
 ted in Davidson Hall?  Thank you!
URL:https://events.stage.louisville.edu/events/testing-services/2027-10-26
END:VEVENT
END:VCALENDAR