BEGIN:VCALENDAR
VERSION:2.0
PRODID:-//Drupal//recurring_events_ical//2.0//EN
BEGIN:VEVENT
UID:0d96db98-f05e-4171-a8ed-a0e8ceae389c@events.stage.louisville.edu
DTSTAMP:20260424T162202Z
DTSTART:20271028T110000Z
DTEND:20271028T110000Z
SUMMARY:Testing Services
CONTACT:Tammy Jones-Scrogham\, 502-852-6606\, email:testing@louisville.edu
DESCRIPTION:Will you please add Testing Services as part of the offices lis
 ted in Davidson Hall?  Thank you!
URL:https://events.stage.louisville.edu/events/testing-services/2027-10-28
END:VEVENT
END:VCALENDAR