BEGIN:VCALENDAR
VERSION:2.0
PRODID:-//Drupal//recurring_events_ical//2.0//EN
BEGIN:VEVENT
UID:4cb6a30e-626a-4b45-9cc4-8697ce43adce@events.stage.louisville.edu
DTSTAMP:20260424T175920Z
DTSTART:20271104T110000Z
DTEND:20271104T110000Z
SUMMARY:Testing Services
CONTACT:Tammy Jones-Scrogham\, 502-852-6606\, email:testing@louisville.edu
DESCRIPTION:Will you please add Testing Services as part of the offices lis
 ted in Davidson Hall?  Thank you!
URL:https://events.stage.louisville.edu/events/testing-services/2027-11-04
END:VEVENT
END:VCALENDAR