BEGIN:VCALENDAR
VERSION:2.0
PRODID:-//Drupal//recurring_events_ical//2.0//EN
BEGIN:VEVENT
UID:005d7d22-cf9d-4c6f-93bf-960a0d3c4fb5@events.stage.louisville.edu
DTSTAMP:20260424T162502Z
DTSTART:20271109T120000Z
DTEND:20271109T120000Z
SUMMARY:Testing Services
CONTACT:Tammy Jones-Scrogham\, 502-852-6606\, email:testing@louisville.edu
DESCRIPTION:Will you please add Testing Services as part of the offices lis
 ted in Davidson Hall?  Thank you!
URL:https://events.stage.louisville.edu/events/testing-services/2027-11-09
END:VEVENT
END:VCALENDAR