BEGIN:VCALENDAR
VERSION:2.0
PRODID:-//Drupal//recurring_events_ical//2.0//EN
BEGIN:VEVENT
UID:88ca3656-1fc4-463d-9138-d9d2a2bf15ef@events.stage.louisville.edu
DTSTAMP:20260424T180010Z
DTSTART:20271111T120000Z
DTEND:20271111T120000Z
SUMMARY:Testing Services
CONTACT:Tammy Jones-Scrogham\, 502-852-6606\, email:testing@louisville.edu
DESCRIPTION:Will you please add Testing Services as part of the offices lis
 ted in Davidson Hall?  Thank you!
URL:https://events.stage.louisville.edu/events/testing-services/2027-11-11
END:VEVENT
END:VCALENDAR