BEGIN:VCALENDAR
VERSION:2.0
PRODID:-//Drupal//recurring_events_ical//2.0//EN
BEGIN:VEVENT
UID:c5c5bf44-e3fe-4bf4-8ad3-9be8fbd0f30e@events.stage.louisville.edu
DTSTAMP:20260424T180015Z
DTSTART:20271115T120000Z
DTEND:20271115T120000Z
SUMMARY:Testing Services
CONTACT:Tammy Jones-Scrogham\, 502-852-6606\, email:testing@louisville.edu
DESCRIPTION:Will you please add Testing Services as part of the offices lis
 ted in Davidson Hall?  Thank you!
URL:https://events.stage.louisville.edu/events/testing-services/2027-11-15
END:VEVENT
END:VCALENDAR