BEGIN:VCALENDAR
VERSION:2.0
PRODID:-//Drupal//recurring_events_ical//2.0//EN
BEGIN:VEVENT
UID:9dd6a488-29f6-44e4-bd8c-9d1eeddd6af0@events.stage.louisville.edu
DTSTAMP:20260424T175927Z
DTSTART:20271116T120000Z
DTEND:20271116T120000Z
SUMMARY:Testing Services
CONTACT:Tammy Jones-Scrogham\, 502-852-6606\, email:testing@louisville.edu
DESCRIPTION:Will you please add Testing Services as part of the offices lis
 ted in Davidson Hall?  Thank you!
URL:https://events.stage.louisville.edu/events/testing-services/2027-11-16
END:VEVENT
END:VCALENDAR