BEGIN:VCALENDAR
VERSION:2.0
PRODID:-//Drupal//recurring_events_ical//2.0//EN
BEGIN:VEVENT
UID:fe331274-19a8-41fd-bbc5-328077497fbb@events.stage.louisville.edu
DTSTAMP:20260424T162322Z
DTSTART:20271123T120000Z
DTEND:20271123T120000Z
SUMMARY:Testing Services
CONTACT:Tammy Jones-Scrogham\, 502-852-6606\, email:testing@louisville.edu
DESCRIPTION:Will you please add Testing Services as part of the offices lis
 ted in Davidson Hall?  Thank you!
URL:https://events.stage.louisville.edu/events/testing-services/2027-11-23
END:VEVENT
END:VCALENDAR