BEGIN:VCALENDAR
VERSION:2.0
PRODID:-//Drupal//recurring_events_ical//2.0//EN
BEGIN:VEVENT
UID:a00be76e-2cb4-4dd6-a062-83d933440ac4@events.stage.louisville.edu
DTSTAMP:20260424T162400Z
DTSTART:20271124T120000Z
DTEND:20271124T120000Z
SUMMARY:Testing Services
CONTACT:Tammy Jones-Scrogham\, 502-852-6606\, email:testing@louisville.edu
DESCRIPTION:Will you please add Testing Services as part of the offices lis
 ted in Davidson Hall?  Thank you!
URL:https://events.stage.louisville.edu/events/testing-services/2027-11-24
END:VEVENT
END:VCALENDAR