BEGIN:VCALENDAR
VERSION:2.0
PRODID:-//Drupal//recurring_events_ical//2.0//EN
BEGIN:VEVENT
UID:1d8bb09f-6503-4c72-a769-52d87987615f@events.stage.louisville.edu
DTSTAMP:20260424T175928Z
DTSTART:20271130T120000Z
DTEND:20271130T120000Z
SUMMARY:Testing Services
CONTACT:Tammy Jones-Scrogham\, 502-852-6606\, email:testing@louisville.edu
DESCRIPTION:Will you please add Testing Services as part of the offices lis
 ted in Davidson Hall?  Thank you!
URL:https://events.stage.louisville.edu/events/testing-services/2027-11-30
END:VEVENT
END:VCALENDAR