BEGIN:VCALENDAR
VERSION:2.0
PRODID:-//Drupal//recurring_events_ical//2.0//EN
BEGIN:VEVENT
UID:7c8b0848-eb33-448b-aed1-1eea83703816@events.stage.louisville.edu
DTSTAMP:20260424T162558Z
DTSTART:20271202T120000Z
DTEND:20271202T120000Z
SUMMARY:Testing Services
CONTACT:Tammy Jones-Scrogham\, 502-852-6606\, email:testing@louisville.edu
DESCRIPTION:Will you please add Testing Services as part of the offices lis
 ted in Davidson Hall?  Thank you!
URL:https://events.stage.louisville.edu/events/testing-services/2027-12-02
END:VEVENT
END:VCALENDAR