BEGIN:VCALENDAR
VERSION:2.0
PRODID:-//Drupal//recurring_events_ical//2.0//EN
BEGIN:VEVENT
UID:dd9abe57-258e-483c-aef5-1b897790a14a@events.stage.louisville.edu
DTSTAMP:20260424T175830Z
DTSTART:20271206T120000Z
DTEND:20271206T120000Z
SUMMARY:Testing Services
CONTACT:Tammy Jones-Scrogham\, 502-852-6606\, email:testing@louisville.edu
DESCRIPTION:Will you please add Testing Services as part of the offices lis
 ted in Davidson Hall?  Thank you!
URL:https://events.stage.louisville.edu/events/testing-services/2027-12-06
END:VEVENT
END:VCALENDAR