BEGIN:VCALENDAR
VERSION:2.0
PRODID:-//Drupal//recurring_events_ical//2.0//EN
BEGIN:VEVENT
UID:11acedb5-b4c7-4cfe-bb2e-ea4d8a8d53e1@events.stage.louisville.edu
DTSTAMP:20260424T175827Z
DTSTART:20271208T120000Z
DTEND:20271208T120000Z
SUMMARY:Testing Services
CONTACT:Tammy Jones-Scrogham\, 502-852-6606\, email:testing@louisville.edu
DESCRIPTION:Will you please add Testing Services as part of the offices lis
 ted in Davidson Hall?  Thank you!
URL:https://events.stage.louisville.edu/events/testing-services/2027-12-08
END:VEVENT
END:VCALENDAR