BEGIN:VCALENDAR
VERSION:2.0
PRODID:-//Drupal//recurring_events_ical//2.0//EN
BEGIN:VEVENT
UID:b28c9023-7bf1-469e-9365-8089c83a526d@events.stage.louisville.edu
DTSTAMP:20260424T162623Z
DTSTART:20271209T120000Z
DTEND:20271209T120000Z
SUMMARY:Testing Services
CONTACT:Tammy Jones-Scrogham\, 502-852-6606\, email:testing@louisville.edu
DESCRIPTION:Will you please add Testing Services as part of the offices lis
 ted in Davidson Hall?  Thank you!
URL:https://events.stage.louisville.edu/events/testing-services/2027-12-09
END:VEVENT
END:VCALENDAR