BEGIN:VCALENDAR
VERSION:2.0
PRODID:-//Drupal//recurring_events_ical//2.0//EN
BEGIN:VEVENT
UID:d4b329cd-467e-46ad-b56b-a8a46c1eb6ef@events.stage.louisville.edu
DTSTAMP:20260424T162424Z
DTSTART:20271213T120000Z
DTEND:20271213T120000Z
SUMMARY:Testing Services
CONTACT:Tammy Jones-Scrogham\, 502-852-6606\, email:testing@louisville.edu
DESCRIPTION:Will you please add Testing Services as part of the offices lis
 ted in Davidson Hall?  Thank you!
URL:https://events.stage.louisville.edu/events/testing-services/2027-12-13
END:VEVENT
END:VCALENDAR