BEGIN:VCALENDAR
VERSION:2.0
PRODID:-//Drupal//recurring_events_ical//2.0//EN
BEGIN:VEVENT
UID:1ad3d9f1-12a2-4bb9-ac9c-bca30385e3b3@events.stage.louisville.edu
DTSTAMP:20260424T180015Z
DTSTART:20271215T120000Z
DTEND:20271215T120000Z
SUMMARY:Testing Services
CONTACT:Tammy Jones-Scrogham\, 502-852-6606\, email:testing@louisville.edu
DESCRIPTION:Will you please add Testing Services as part of the offices lis
 ted in Davidson Hall?  Thank you!
URL:https://events.stage.louisville.edu/events/testing-services/2027-12-15
END:VEVENT
END:VCALENDAR