BEGIN:VCALENDAR
VERSION:2.0
PRODID:-//Drupal//recurring_events_ical//2.0//EN
BEGIN:VEVENT
UID:6ddd8167-59a5-4e88-a3a3-9b7659515f9a@events.stage.louisville.edu
DTSTAMP:20260424T162357Z
DTSTART:20271220T120000Z
DTEND:20271220T120000Z
SUMMARY:Testing Services
CONTACT:Tammy Jones-Scrogham\, 502-852-6606\, email:testing@louisville.edu
DESCRIPTION:Will you please add Testing Services as part of the offices lis
 ted in Davidson Hall?  Thank you!
URL:https://events.stage.louisville.edu/events/testing-services/2027-12-20
END:VEVENT
END:VCALENDAR