BEGIN:VCALENDAR
VERSION:2.0
PRODID:-//Drupal//recurring_events_ical//2.0//EN
BEGIN:VEVENT
UID:f1ab18a3-36b8-40fa-b772-c34fe640f545@events.stage.louisville.edu
DTSTAMP:20260424T175901Z
DTSTART:20271222T120000Z
DTEND:20271222T120000Z
SUMMARY:Testing Services
CONTACT:Tammy Jones-Scrogham\, 502-852-6606\, email:testing@louisville.edu
DESCRIPTION:Will you please add Testing Services as part of the offices lis
 ted in Davidson Hall?  Thank you!
URL:https://events.stage.louisville.edu/events/testing-services/2027-12-22
END:VEVENT
END:VCALENDAR