BEGIN:VCALENDAR
VERSION:2.0
PRODID:-//Drupal//recurring_events_ical//2.0//EN
BEGIN:VEVENT
UID:6f2550b2-4608-47b8-b144-b60161a484f6@events.stage.louisville.edu
DTSTAMP:20260424T162345Z
DTSTART:20271229T120000Z
DTEND:20271229T120000Z
SUMMARY:Testing Services
CONTACT:Tammy Jones-Scrogham\, 502-852-6606\, email:testing@louisville.edu
DESCRIPTION:Will you please add Testing Services as part of the offices lis
 ted in Davidson Hall?  Thank you!
URL:https://events.stage.louisville.edu/events/testing-services/2027-12-29
END:VEVENT
END:VCALENDAR