BEGIN:VCALENDAR
VERSION:2.0
PRODID:-//Drupal//recurring_events_ical//2.0//EN
BEGIN:VEVENT
UID:ca956db3-9f84-4894-bb65-84cf0b0799ba@events.stage.louisville.edu
DTSTAMP:20260424T162130Z
DTSTART:20280103T120000Z
DTEND:20280103T120000Z
SUMMARY:Testing Services
CONTACT:Tammy Jones-Scrogham\, 502-852-6606\, email:testing@louisville.edu
DESCRIPTION:Will you please add Testing Services as part of the offices lis
 ted in Davidson Hall?  Thank you!
URL:https://events.stage.louisville.edu/events/testing-services/2028-01-03
END:VEVENT
END:VCALENDAR