BEGIN:VCALENDAR
VERSION:2.0
PRODID:-//Drupal//recurring_events_ical//2.0//EN
BEGIN:VEVENT
UID:924bce0d-5700-4aca-9966-6981a40b10cc@events.stage.louisville.edu
DTSTAMP:20260424T162000Z
DTSTART:20280104T120000Z
DTEND:20280104T120000Z
SUMMARY:Testing Services
CONTACT:Tammy Jones-Scrogham\, 502-852-6606\, email:testing@louisville.edu
DESCRIPTION:Will you please add Testing Services as part of the offices lis
 ted in Davidson Hall?  Thank you!
URL:https://events.stage.louisville.edu/events/testing-services/2028-01-04
END:VEVENT
END:VCALENDAR