BEGIN:VCALENDAR
VERSION:2.0
PRODID:-//Drupal//recurring_events_ical//2.0//EN
BEGIN:VEVENT
UID:7bf1dc7c-33b1-4c88-8d57-d0490a56a574@events.stage.louisville.edu
DTSTAMP:20260424T162056Z
DTSTART:20280105T120000Z
DTEND:20280105T120000Z
SUMMARY:Testing Services
CONTACT:Tammy Jones-Scrogham\, 502-852-6606\, email:testing@louisville.edu
DESCRIPTION:Will you please add Testing Services as part of the offices lis
 ted in Davidson Hall?  Thank you!
URL:https://events.stage.louisville.edu/events/testing-services/2028-01-05
END:VEVENT
END:VCALENDAR