BEGIN:VCALENDAR
VERSION:2.0
PRODID:-//Drupal//recurring_events_ical//2.0//EN
BEGIN:VEVENT
UID:33caf38f-24e5-4985-ba8d-1a51d5e7a0d0@events.stage.louisville.edu
DTSTAMP:20260424T162050Z
DTSTART:20280110T120000Z
DTEND:20280110T120000Z
SUMMARY:Testing Services
CONTACT:Tammy Jones-Scrogham\, 502-852-6606\, email:testing@louisville.edu
DESCRIPTION:Will you please add Testing Services as part of the offices lis
 ted in Davidson Hall?  Thank you!
URL:https://events.stage.louisville.edu/events/testing-services/2028-01-10
END:VEVENT
END:VCALENDAR