BEGIN:VCALENDAR
VERSION:2.0
PRODID:-//Drupal//recurring_events_ical//2.0//EN
BEGIN:VEVENT
UID:777a7ead-3460-4cab-b1e7-a6b23b8e4550@events.stage.louisville.edu
DTSTAMP:20260424T175904Z
DTSTART:20280111T120000Z
DTEND:20280111T120000Z
SUMMARY:Testing Services
CONTACT:Tammy Jones-Scrogham\, 502-852-6606\, email:testing@louisville.edu
DESCRIPTION:Will you please add Testing Services as part of the offices lis
 ted in Davidson Hall?  Thank you!
URL:https://events.stage.louisville.edu/events/testing-services/2028-01-11
END:VEVENT
END:VCALENDAR