BEGIN:VCALENDAR
VERSION:2.0
PRODID:-//Drupal//recurring_events_ical//2.0//EN
BEGIN:VEVENT
UID:bdb93694-79dd-41a5-a9e3-dc01d2bf4dab@events.stage.louisville.edu
DTSTAMP:20260424T175905Z
DTSTART:20280112T120000Z
DTEND:20280112T120000Z
SUMMARY:Testing Services
CONTACT:Tammy Jones-Scrogham\, 502-852-6606\, email:testing@louisville.edu
DESCRIPTION:Will you please add Testing Services as part of the offices lis
 ted in Davidson Hall?  Thank you!
URL:https://events.stage.louisville.edu/events/testing-services/2028-01-12
END:VEVENT
END:VCALENDAR