BEGIN:VCALENDAR
VERSION:2.0
PRODID:-//Drupal//recurring_events_ical//2.0//EN
BEGIN:VEVENT
UID:16dae67f-25f2-4185-98f4-0e191994f02f@events.stage.louisville.edu
DTSTAMP:20260424T175831Z
DTSTART:20280117T120000Z
DTEND:20280117T120000Z
SUMMARY:Testing Services
CONTACT:Tammy Jones-Scrogham\, 502-852-6606\, email:testing@louisville.edu
DESCRIPTION:Will you please add Testing Services as part of the offices lis
 ted in Davidson Hall?  Thank you!
URL:https://events.stage.louisville.edu/events/testing-services/2028-01-17
END:VEVENT
END:VCALENDAR