BEGIN:VCALENDAR
VERSION:2.0
PRODID:-//Drupal//recurring_events_ical//2.0//EN
BEGIN:VEVENT
UID:75e19ea1-84b5-447c-a157-7398a4cc48fd@events.stage.louisville.edu
DTSTAMP:20260424T175739Z
DTSTART:20280118T120000Z
DTEND:20280118T120000Z
SUMMARY:Testing Services
CONTACT:Tammy Jones-Scrogham\, 502-852-6606\, email:testing@louisville.edu
DESCRIPTION:Will you please add Testing Services as part of the offices lis
 ted in Davidson Hall?  Thank you!
URL:https://events.stage.louisville.edu/events/testing-services/2028-01-18
END:VEVENT
END:VCALENDAR