BEGIN:VCALENDAR
VERSION:2.0
PRODID:-//Drupal//recurring_events_ical//2.0//EN
BEGIN:VEVENT
UID:1199fb5f-a0e3-4094-89b3-f4e490ea2c2e@events.stage.louisville.edu
DTSTAMP:20260424T162150Z
DTSTART:20280127T120000Z
DTEND:20280127T120000Z
SUMMARY:Testing Services
CONTACT:Tammy Jones-Scrogham\, 502-852-6606\, email:testing@louisville.edu
DESCRIPTION:Will you please add Testing Services as part of the offices lis
 ted in Davidson Hall?  Thank you!
URL:https://events.stage.louisville.edu/events/testing-services/2028-01-27
END:VEVENT
END:VCALENDAR