BEGIN:VCALENDAR
VERSION:2.0
PRODID:-//Drupal//recurring_events_ical//2.0//EN
BEGIN:VEVENT
UID:19d4b999-7ae7-4649-b198-11a180f0f1e0@events.stage.louisville.edu
DTSTAMP:20260424T162310Z
DTSTART:20280201T120000Z
DTEND:20280201T120000Z
SUMMARY:Testing Services
CONTACT:Tammy Jones-Scrogham\, 502-852-6606\, email:testing@louisville.edu
DESCRIPTION:Will you please add Testing Services as part of the offices lis
 ted in Davidson Hall?  Thank you!
URL:https://events.stage.louisville.edu/events/testing-services/2028-02-01
END:VEVENT
END:VCALENDAR