BEGIN:VCALENDAR
VERSION:2.0
PRODID:-//Drupal//recurring_events_ical//2.0//EN
BEGIN:VEVENT
UID:b076e72f-9221-413f-9ac8-de7ecd455380@events.stage.louisville.edu
DTSTAMP:20260424T162247Z
DTSTART:20280208T120000Z
DTEND:20280208T120000Z
SUMMARY:Testing Services
CONTACT:Tammy Jones-Scrogham\, 502-852-6606\, email:testing@louisville.edu
DESCRIPTION:Will you please add Testing Services as part of the offices lis
 ted in Davidson Hall?  Thank you!
URL:https://events.stage.louisville.edu/events/testing-services/2028-02-08
END:VEVENT
END:VCALENDAR