BEGIN:VCALENDAR
VERSION:2.0
PRODID:-//Drupal//recurring_events_ical//2.0//EN
BEGIN:VEVENT
UID:8db9a423-f1c2-43ba-9668-0a50c213b2a6@events.stage.louisville.edu
DTSTAMP:20260424T162537Z
DTSTART:20280221T120000Z
DTEND:20280221T120000Z
SUMMARY:Testing Services
CONTACT:Tammy Jones-Scrogham\, 502-852-6606\, email:testing@louisville.edu
DESCRIPTION:Will you please add Testing Services as part of the offices lis
 ted in Davidson Hall?  Thank you!
URL:https://events.stage.louisville.edu/events/testing-services/2028-02-21
END:VEVENT
END:VCALENDAR