BEGIN:VCALENDAR
VERSION:2.0
PRODID:-//Drupal//recurring_events_ical//2.0//EN
BEGIN:VEVENT
UID:ae027eb6-da82-424e-ad36-0c9eaf0490e8@events.stage.louisville.edu
DTSTAMP:20260424T175828Z
DTSTART:20280301T120000Z
DTEND:20280301T120000Z
SUMMARY:Testing Services
CONTACT:Tammy Jones-Scrogham\, 502-852-6606\, email:testing@louisville.edu
DESCRIPTION:Will you please add Testing Services as part of the offices lis
 ted in Davidson Hall?  Thank you!
URL:https://events.stage.louisville.edu/events/testing-services/2028-03-01
END:VEVENT
END:VCALENDAR