BEGIN:VCALENDAR
VERSION:2.0
PRODID:-//Drupal//recurring_events_ical//2.0//EN
BEGIN:VEVENT
UID:73168309-41bd-41de-a6f7-a4dd85a5ca43@events.stage.louisville.edu
DTSTAMP:20260424T175907Z
DTSTART:20280308T120000Z
DTEND:20280308T120000Z
SUMMARY:Testing Services
CONTACT:Tammy Jones-Scrogham\, 502-852-6606\, email:testing@louisville.edu
DESCRIPTION:Will you please add Testing Services as part of the offices lis
 ted in Davidson Hall?  Thank you!
URL:https://events.stage.louisville.edu/events/testing-services/2028-03-08
END:VEVENT
END:VCALENDAR