BEGIN:VCALENDAR
VERSION:2.0
PRODID:-//Drupal//recurring_events_ical//2.0//EN
BEGIN:VEVENT
UID:1845560b-3e6d-4e0c-b3af-1da5d081226b@events.stage.louisville.edu
DTSTAMP:20260424T162553Z
DTSTART:20280321T110000Z
DTEND:20280321T110000Z
SUMMARY:Testing Services
CONTACT:Tammy Jones-Scrogham\, 502-852-6606\, email:testing@louisville.edu
DESCRIPTION:Will you please add Testing Services as part of the offices lis
 ted in Davidson Hall?  Thank you!
URL:https://events.stage.louisville.edu/events/testing-services/2028-03-21
END:VEVENT
END:VCALENDAR