BEGIN:VCALENDAR
VERSION:2.0
PRODID:-//Drupal//recurring_events_ical//2.0//EN
BEGIN:VEVENT
UID:72409173-631c-4151-99be-780f21f8d8a0@events.stage.louisville.edu
DTSTAMP:20260424T162509Z
DTSTART:20280411T110000Z
DTEND:20280411T110000Z
SUMMARY:Testing Services
CONTACT:Tammy Jones-Scrogham\, 502-852-6606\, email:testing@louisville.edu
DESCRIPTION:Will you please add Testing Services as part of the offices lis
 ted in Davidson Hall?  Thank you!
URL:https://events.stage.louisville.edu/events/testing-services/2028-04-11
END:VEVENT
END:VCALENDAR