BEGIN:VCALENDAR
VERSION:2.0
PRODID:-//Drupal//recurring_events_ical//2.0//EN
BEGIN:VEVENT
UID:70885800-a2e6-4cc7-b04b-ded0e33ff473@events.stage.louisville.edu
DTSTAMP:20260424T180050Z
DTSTART:20280413T110000Z
DTEND:20280413T110000Z
SUMMARY:Testing Services
CONTACT:Tammy Jones-Scrogham\, 502-852-6606\, email:testing@louisville.edu
DESCRIPTION:Will you please add Testing Services as part of the offices lis
 ted in Davidson Hall?  Thank you!
URL:https://events.stage.louisville.edu/events/testing-services/2028-04-13
END:VEVENT
END:VCALENDAR