BEGIN:VCALENDAR
VERSION:2.0
PRODID:-//Drupal//recurring_events_ical//2.0//EN
BEGIN:VEVENT
UID:6f226811-9a6e-4548-bdf2-374742817955@events.stage.louisville.edu
DTSTAMP:20260424T180046Z
DTSTART:20280417T110000Z
DTEND:20280417T110000Z
SUMMARY:Testing Services
CONTACT:Tammy Jones-Scrogham\, 502-852-6606\, email:testing@louisville.edu
DESCRIPTION:Will you please add Testing Services as part of the offices lis
 ted in Davidson Hall?  Thank you!
URL:https://events.stage.louisville.edu/events/testing-services/2028-04-17
END:VEVENT
END:VCALENDAR